BEGIN:VCALENDAR
VERSION:2.0
PRODID:-//Le Site du SNEP-FSU - ECPv6.15.20//NONSGML v1.0//EN
CALSCALE:GREGORIAN
METHOD:PUBLISH
X-WR-CALNAME:Le Site du SNEP-FSU
X-ORIGINAL-URL:https://lesite.snepfsu.fr
X-WR-CALDESC:Évènements pour Le Site du SNEP-FSU
REFRESH-INTERVAL;VALUE=DURATION:PT1H
X-Robots-Tag:noindex
X-PUBLISHED-TTL:PT1H
BEGIN:VTIMEZONE
TZID:Europe/Paris
BEGIN:DAYLIGHT
TZOFFSETFROM:+0100
TZOFFSETTO:+0200
TZNAME:CEST
DTSTART:20250330T010000
END:DAYLIGHT
BEGIN:STANDARD
TZOFFSETFROM:+0200
TZOFFSETTO:+0100
TZNAME:CET
DTSTART:20251026T010000
END:STANDARD
BEGIN:DAYLIGHT
TZOFFSETFROM:+0100
TZOFFSETTO:+0200
TZNAME:CEST
DTSTART:20260329T010000
END:DAYLIGHT
BEGIN:STANDARD
TZOFFSETFROM:+0200
TZOFFSETTO:+0100
TZNAME:CET
DTSTART:20261025T010000
END:STANDARD
BEGIN:DAYLIGHT
TZOFFSETFROM:+0100
TZOFFSETTO:+0200
TZNAME:CEST
DTSTART:20270328T010000
END:DAYLIGHT
BEGIN:STANDARD
TZOFFSETFROM:+0200
TZOFFSETTO:+0100
TZNAME:CET
DTSTART:20271031T010000
END:STANDARD
END:VTIMEZONE
BEGIN:VEVENT
DTSTART;TZID=Europe/Paris:20260309T080000
DTEND;TZID=Europe/Paris:20260309T170000
DTSTAMP:20260426T033849
CREATED:20251113T100602Z
LAST-MODIFIED:20251113T101514Z
UID:40857-1773043200-1773075600@lesite.snepfsu.fr
SUMMARY:Stage Égalité Lille
DESCRIPTION:
URL:https://lesite.snepfsu.fr/evenement/stage-egalite-lille-3/
LOCATION:Arras
CATEGORIES:Égalité,Égalité,Lille
ORGANIZER;CN="SNEP-FSU Lille":MAILTO:s3-lille@snepfsu.net
END:VEVENT
END:VCALENDAR