BEGIN:VCALENDAR
VERSION:2.0
PRODID:-//Le Site du SNEP-FSU - ECPv6.15.20//NONSGML v1.0//EN
CALSCALE:GREGORIAN
METHOD:PUBLISH
X-ORIGINAL-URL:https://lesite.snepfsu.fr
X-WR-CALDESC:Évènements pour Le Site du SNEP-FSU
REFRESH-INTERVAL;VALUE=DURATION:PT1H
X-Robots-Tag:noindex
X-PUBLISHED-TTL:PT1H
BEGIN:VTIMEZONE
TZID:Europe/Paris
BEGIN:DAYLIGHT
TZOFFSETFROM:+0100
TZOFFSETTO:+0200
TZNAME:CEST
DTSTART:20250330T010000
END:DAYLIGHT
BEGIN:STANDARD
TZOFFSETFROM:+0200
TZOFFSETTO:+0100
TZNAME:CET
DTSTART:20251026T010000
END:STANDARD
BEGIN:DAYLIGHT
TZOFFSETFROM:+0100
TZOFFSETTO:+0200
TZNAME:CEST
DTSTART:20260329T010000
END:DAYLIGHT
BEGIN:STANDARD
TZOFFSETFROM:+0200
TZOFFSETTO:+0100
TZNAME:CET
DTSTART:20261025T010000
END:STANDARD
BEGIN:DAYLIGHT
TZOFFSETFROM:+0100
TZOFFSETTO:+0200
TZNAME:CEST
DTSTART:20270328T010000
END:DAYLIGHT
BEGIN:STANDARD
TZOFFSETFROM:+0200
TZOFFSETTO:+0100
TZNAME:CET
DTSTART:20271031T010000
END:STANDARD
END:VTIMEZONE
BEGIN:VEVENT
DTSTART;TZID=Europe/Paris:20260611T080000
DTEND;TZID=Europe/Paris:20260612T170000
DTSTAMP:20260426T021036
CREATED:20260417T074051Z
LAST-MODIFIED:20260417T074051Z
UID:43538-1781164800-1781283600@lesite.snepfsu.fr
SUMMARY:Stage Educ / APSA Handball à 4 Toulouse
DESCRIPTION:
URL:https://lesite.snepfsu.fr/evenement/stage-educ-apsa-handball-a-4-toulouse/
LOCATION:Villefranche-de-Laugarais
CATEGORIES:APSA,Stages Educ,Toulouse
ORGANIZER;CN="SNEP-FSU Toulouse":MAILTO:s3-toulouse@snepfsu.net
END:VEVENT
END:VCALENDAR