BEGIN:VCALENDAR
VERSION:2.0
PRODID:-//Le Site du SNEP-FSU - ECPv6.15.20//NONSGML v1.0//EN
CALSCALE:GREGORIAN
METHOD:PUBLISH
X-WR-CALNAME:Le Site du SNEP-FSU
X-ORIGINAL-URL:https://lesite.snepfsu.fr
X-WR-CALDESC:Évènements pour Le Site du SNEP-FSU
REFRESH-INTERVAL;VALUE=DURATION:PT1H
X-Robots-Tag:noindex
X-PUBLISHED-TTL:PT1H
BEGIN:VTIMEZONE
TZID:Europe/Paris
BEGIN:DAYLIGHT
TZOFFSETFROM:+0100
TZOFFSETTO:+0200
TZNAME:CEST
DTSTART:20250330T010000
END:DAYLIGHT
BEGIN:STANDARD
TZOFFSETFROM:+0200
TZOFFSETTO:+0100
TZNAME:CET
DTSTART:20251026T010000
END:STANDARD
BEGIN:DAYLIGHT
TZOFFSETFROM:+0100
TZOFFSETTO:+0200
TZNAME:CEST
DTSTART:20260329T010000
END:DAYLIGHT
BEGIN:STANDARD
TZOFFSETFROM:+0200
TZOFFSETTO:+0100
TZNAME:CET
DTSTART:20261025T010000
END:STANDARD
BEGIN:DAYLIGHT
TZOFFSETFROM:+0100
TZOFFSETTO:+0200
TZNAME:CEST
DTSTART:20270328T010000
END:DAYLIGHT
BEGIN:STANDARD
TZOFFSETFROM:+0200
TZOFFSETTO:+0100
TZNAME:CET
DTSTART:20271031T010000
END:STANDARD
END:VTIMEZONE
BEGIN:VEVENT
DTSTART;TZID=Europe/Paris:20260601T080000
DTEND;TZID=Europe/Paris:20260602T170000
DTSTAMP:20260426T033814
CREATED:20260320T150919Z
LAST-MODIFIED:20260320T150919Z
UID:43059-1780300800-1780419600@lesite.snepfsu.fr
SUMMARY:Stage Educ / APSA Danse\, Cirque Normandie
DESCRIPTION:
URL:https://lesite.snepfsu.fr/evenement/stage-educ-apsa-danse-cirque-normandie/
LOCATION:Louviers
CATEGORIES:APSA,Normandie,Stages Educ
END:VEVENT
BEGIN:VEVENT
DTSTART;TZID=Europe/Paris:20260609T080000
DTEND;TZID=Europe/Paris:20260609T170000
DTSTAMP:20260426T033814
CREATED:20251113T100055Z
LAST-MODIFIED:20251113T101208Z
UID:40848-1780992000-1781024400@lesite.snepfsu.fr
SUMMARY:Stage Educ / APSA Badminton Normandie
DESCRIPTION:
URL:https://lesite.snepfsu.fr/evenement/stage-educ-apsa-badminton-normandie-2/
LOCATION:Coutances
CATEGORIES:APSA,Normandie,Stages Educ
END:VEVENT
END:VCALENDAR