BEGIN:VCALENDAR
VERSION:2.0
PRODID:-//Le Site du SNEP-FSU - ECPv6.15.20//NONSGML v1.0//EN
CALSCALE:GREGORIAN
METHOD:PUBLISH
X-WR-CALNAME:Le Site du SNEP-FSU
X-ORIGINAL-URL:https://lesite.snepfsu.fr
X-WR-CALDESC:Évènements pour Le Site du SNEP-FSU
REFRESH-INTERVAL;VALUE=DURATION:PT1H
X-Robots-Tag:noindex
X-PUBLISHED-TTL:PT1H
BEGIN:VTIMEZONE
TZID:Europe/Paris
BEGIN:DAYLIGHT
TZOFFSETFROM:+0100
TZOFFSETTO:+0200
TZNAME:CEST
DTSTART:20250330T010000
END:DAYLIGHT
BEGIN:STANDARD
TZOFFSETFROM:+0200
TZOFFSETTO:+0100
TZNAME:CET
DTSTART:20251026T010000
END:STANDARD
BEGIN:DAYLIGHT
TZOFFSETFROM:+0100
TZOFFSETTO:+0200
TZNAME:CEST
DTSTART:20260329T010000
END:DAYLIGHT
BEGIN:STANDARD
TZOFFSETFROM:+0200
TZOFFSETTO:+0100
TZNAME:CET
DTSTART:20261025T010000
END:STANDARD
BEGIN:DAYLIGHT
TZOFFSETFROM:+0100
TZOFFSETTO:+0200
TZNAME:CEST
DTSTART:20270328T010000
END:DAYLIGHT
BEGIN:STANDARD
TZOFFSETFROM:+0200
TZOFFSETTO:+0100
TZNAME:CET
DTSTART:20271031T010000
END:STANDARD
END:VTIMEZONE
BEGIN:VEVENT
DTSTART;TZID=Europe/Paris:20260305T080000
DTEND;TZID=Europe/Paris:20260306T170000
DTSTAMP:20260426T020840
CREATED:20251113T093754Z
LAST-MODIFIED:20251113T093754Z
UID:40844-1772697600-1772816400@lesite.snepfsu.fr
SUMMARY:Stage Educ / APSA Danse Normandie
DESCRIPTION:
URL:https://lesite.snepfsu.fr/evenement/stage-educ-apsa-danse-normandie/
LOCATION:Coutances
CATEGORIES:APSA,Normandie,Stages Educ
END:VEVENT
BEGIN:VEVENT
DTSTART;TZID=Europe/Paris:20260309T080000
DTEND;TZID=Europe/Paris:20260310T170000
DTSTAMP:20260426T020840
CREATED:20251113T093952Z
LAST-MODIFIED:20251113T093952Z
UID:40846-1773043200-1773162000@lesite.snepfsu.fr
SUMMARY:Stage Métier / Sécurité / Responsabilité Normandie
DESCRIPTION:
URL:https://lesite.snepfsu.fr/evenement/stage-metier-securite-responsabilite-normandie-2/
LOCATION:Rouen
CATEGORIES:Normandie,Sécurité - Responsabilité,Stages Métier
ORGANIZER;CN="SNEP-FSU Normandie":MAILTO:s3-normandie@snepfsu.net
END:VEVENT
BEGIN:VEVENT
DTSTART;TZID=Europe/Paris:20260320T080000
DTEND;TZID=Europe/Paris:20260320T170000
DTSTAMP:20260426T020840
CREATED:20260206T093606Z
LAST-MODIFIED:20260206T093606Z
UID:42339-1773993600-1774026000@lesite.snepfsu.fr
SUMMARY:Stage Corpo / Mut Intra Normandie
DESCRIPTION:
URL:https://lesite.snepfsu.fr/evenement/stage-corpo-mut-intra-normandie-4/
LOCATION:Rouen
CATEGORIES:Mutations Intra,Normandie,Stages Corpo
ORGANIZER;CN="SNEP-FSU Normandie":MAILTO:s3-normandie@snepfsu.net
END:VEVENT
BEGIN:VEVENT
DTSTART;TZID=Europe/Paris:20260320T080000
DTEND;TZID=Europe/Paris:20260320T170000
DTSTAMP:20260426T020840
CREATED:20260216T091550Z
LAST-MODIFIED:20260216T091550Z
UID:42610-1773993600-1774026000@lesite.snepfsu.fr
SUMMARY:Stage Corpo / Mut Intra Normandie
DESCRIPTION:
URL:https://lesite.snepfsu.fr/evenement/stage-corpo-mut-intra-normandie-5/
LOCATION:Caen
CATEGORIES:Mutations Intra,Normandie,Stages Corpo
ORGANIZER;CN="SNEP-FSU Normandie":MAILTO:s3-normandie@snepfsu.net
END:VEVENT
END:VCALENDAR