BEGIN:VCALENDAR
VERSION:2.0
PRODID:-//Le Site du SNEP-FSU - ECPv6.15.20//NONSGML v1.0//EN
CALSCALE:GREGORIAN
METHOD:PUBLISH
X-ORIGINAL-URL:https://lesite.snepfsu.fr
X-WR-CALDESC:Évènements pour Le Site du SNEP-FSU
REFRESH-INTERVAL;VALUE=DURATION:PT1H
X-Robots-Tag:noindex
X-PUBLISHED-TTL:PT1H
BEGIN:VTIMEZONE
TZID:Europe/Paris
BEGIN:DAYLIGHT
TZOFFSETFROM:+0100
TZOFFSETTO:+0200
TZNAME:CEST
DTSTART:20250330T010000
END:DAYLIGHT
BEGIN:STANDARD
TZOFFSETFROM:+0200
TZOFFSETTO:+0100
TZNAME:CET
DTSTART:20251026T010000
END:STANDARD
BEGIN:DAYLIGHT
TZOFFSETFROM:+0100
TZOFFSETTO:+0200
TZNAME:CEST
DTSTART:20260329T010000
END:DAYLIGHT
BEGIN:STANDARD
TZOFFSETFROM:+0200
TZOFFSETTO:+0100
TZNAME:CET
DTSTART:20261025T010000
END:STANDARD
BEGIN:DAYLIGHT
TZOFFSETFROM:+0100
TZOFFSETTO:+0200
TZNAME:CEST
DTSTART:20270328T010000
END:DAYLIGHT
BEGIN:STANDARD
TZOFFSETFROM:+0200
TZOFFSETTO:+0100
TZNAME:CET
DTSTART:20271031T010000
END:STANDARD
END:VTIMEZONE
BEGIN:VEVENT
DTSTART;TZID=Europe/Paris:20260305T080000
DTEND;TZID=Europe/Paris:20260306T170000
DTSTAMP:20260426T012459
CREATED:20251219T105205Z
LAST-MODIFIED:20251219T105205Z
UID:41743-1772697600-1772816400@lesite.snepfsu.fr
SUMMARY:Educ / APSA Assises Pédagogiques Nantes
DESCRIPTION:
URL:https://lesite.snepfsu.fr/evenement/educ-apsa-assises-pedagogiques-nantes/
LOCATION:Nantes
CATEGORIES:APSA,Nantes,Stages Educ
ORGANIZER;CN="SNEP-FSU Nantes":MAILTO:s3-nantes@snepfsu.net
END:VEVENT
END:VCALENDAR