BEGIN:VCALENDAR
VERSION:2.0
PRODID:-//Le Site du SNEP-FSU - ECPv6.15.20//NONSGML v1.0//EN
CALSCALE:GREGORIAN
METHOD:PUBLISH
X-ORIGINAL-URL:https://lesite.snepfsu.fr
X-WR-CALDESC:Évènements pour Le Site du SNEP-FSU
REFRESH-INTERVAL;VALUE=DURATION:PT1H
X-Robots-Tag:noindex
X-PUBLISHED-TTL:PT1H
BEGIN:VTIMEZONE
TZID:Europe/Paris
BEGIN:DAYLIGHT
TZOFFSETFROM:+0100
TZOFFSETTO:+0200
TZNAME:CEST
DTSTART:20240331T010000
END:DAYLIGHT
BEGIN:STANDARD
TZOFFSETFROM:+0200
TZOFFSETTO:+0100
TZNAME:CET
DTSTART:20241027T010000
END:STANDARD
BEGIN:DAYLIGHT
TZOFFSETFROM:+0100
TZOFFSETTO:+0200
TZNAME:CEST
DTSTART:20250330T010000
END:DAYLIGHT
BEGIN:STANDARD
TZOFFSETFROM:+0200
TZOFFSETTO:+0100
TZNAME:CET
DTSTART:20251026T010000
END:STANDARD
BEGIN:DAYLIGHT
TZOFFSETFROM:+0100
TZOFFSETTO:+0200
TZNAME:CEST
DTSTART:20260329T010000
END:DAYLIGHT
BEGIN:STANDARD
TZOFFSETFROM:+0200
TZOFFSETTO:+0100
TZNAME:CET
DTSTART:20261025T010000
END:STANDARD
END:VTIMEZONE
BEGIN:VEVENT
DTSTART;TZID=Europe/Paris:20251112T080000
DTEND;TZID=Europe/Paris:20251112T170000
DTSTAMP:20260426T054644
CREATED:20251016T143420Z
LAST-MODIFIED:20251016T143420Z
UID:40429-1762934400-1762966800@lesite.snepfsu.fr
SUMMARY:Stage Corpo / Mut Inter Nantes
DESCRIPTION:
URL:https://lesite.snepfsu.fr/evenement/stage-corpo-mut-inter-nantes/
LOCATION:Angers
CATEGORIES:Mutations Inter,Nantes,Stages Corpo
ORGANIZER;CN="SNEP-FSU Nantes":MAILTO:s3-nantes@snepfsu.net
END:VEVENT
BEGIN:VEVENT
DTSTART;TZID=Europe/Paris:20251117T080000
DTEND;TZID=Europe/Paris:20251118T170000
DTSTAMP:20260426T054644
CREATED:20251016T143304Z
LAST-MODIFIED:20251016T143304Z
UID:40427-1763366400-1763485200@lesite.snepfsu.fr
SUMMARY:Stage Educ / APSA Journée de l'EPS Nantes
DESCRIPTION:
URL:https://lesite.snepfsu.fr/evenement/stage-educ-apsa-journee-de-leps-nantes-3/
LOCATION:Nantes
CATEGORIES:APSA,Nantes,Stages Educ
END:VEVENT
BEGIN:VEVENT
DTSTART;TZID=Europe/Paris:20251118T080000
DTEND;TZID=Europe/Paris:20251118T170000
DTSTAMP:20260426T054644
CREATED:20251009T124808Z
LAST-MODIFIED:20251009T124808Z
UID:40189-1763452800-1763485200@lesite.snepfsu.fr
SUMMARY:Stage APSA / Journée de l'EPS Nantes
DESCRIPTION:
URL:https://lesite.snepfsu.fr/evenement/stage-apsa-journee-de-leps-nantes/
LOCATION:La-Roche-sur-Yon
CATEGORIES:APSA,Nantes,Stages Educ
END:VEVENT
BEGIN:VEVENT
DTSTART;TZID=Europe/Paris:20251120T080000
DTEND;TZID=Europe/Paris:20251120T170000
DTSTAMP:20260426T054644
CREATED:20251201T100859Z
LAST-MODIFIED:20251201T100859Z
UID:41212-1763625600-1763658000@lesite.snepfsu.fr
SUMMARY:Stage Educ / APSA Badminton Nantes
DESCRIPTION:
URL:https://lesite.snepfsu.fr/evenement/stage-educ-apsa-badminton-nantes-2/
LOCATION:Bellevigne-en-Layon
CATEGORIES:APSA,Nantes,Stages Educ
END:VEVENT
BEGIN:VEVENT
DTSTART;TZID=Europe/Paris:20251127T080000
DTEND;TZID=Europe/Paris:20251127T170000
DTSTAMP:20260426T054644
CREATED:20251219T104411Z
LAST-MODIFIED:20251219T104411Z
UID:41741-1764230400-1764262800@lesite.snepfsu.fr
SUMMARY:Stage Corpo / Santé Nantes
DESCRIPTION:
URL:https://lesite.snepfsu.fr/evenement/stage-corpo-sante-nantes-4/
LOCATION:Angers
CATEGORIES:Nantes,Santé,Stages Corpo
ORGANIZER;CN="SNEP-FSU Nantes":MAILTO:s3-nantes@snepfsu.net
END:VEVENT
END:VCALENDAR