BEGIN:VCALENDAR
VERSION:2.0
PRODID:-//Le Site du SNEP-FSU - ECPv6.15.20//NONSGML v1.0//EN
CALSCALE:GREGORIAN
METHOD:PUBLISH
X-ORIGINAL-URL:https://lesite.snepfsu.fr
X-WR-CALDESC:Évènements pour Le Site du SNEP-FSU
REFRESH-INTERVAL;VALUE=DURATION:PT1H
X-Robots-Tag:noindex
X-PUBLISHED-TTL:PT1H
BEGIN:VTIMEZONE
TZID:Europe/Paris
BEGIN:DAYLIGHT
TZOFFSETFROM:+0100
TZOFFSETTO:+0200
TZNAME:CEST
DTSTART:20250330T010000
END:DAYLIGHT
BEGIN:STANDARD
TZOFFSETFROM:+0200
TZOFFSETTO:+0100
TZNAME:CET
DTSTART:20251026T010000
END:STANDARD
BEGIN:DAYLIGHT
TZOFFSETFROM:+0100
TZOFFSETTO:+0200
TZNAME:CEST
DTSTART:20260329T010000
END:DAYLIGHT
BEGIN:STANDARD
TZOFFSETFROM:+0200
TZOFFSETTO:+0100
TZNAME:CET
DTSTART:20261025T010000
END:STANDARD
BEGIN:DAYLIGHT
TZOFFSETFROM:+0100
TZOFFSETTO:+0200
TZNAME:CEST
DTSTART:20270328T010000
END:DAYLIGHT
BEGIN:STANDARD
TZOFFSETFROM:+0200
TZOFFSETTO:+0100
TZNAME:CET
DTSTART:20271031T010000
END:STANDARD
END:VTIMEZONE
BEGIN:VEVENT
DTSTART;TZID=Europe/Paris:20260320T080000
DTEND;TZID=Europe/Paris:20260320T170000
DTSTAMP:20260426T051241
CREATED:20260217T094150Z
LAST-MODIFIED:20260217T094150Z
UID:42626-1773993600-1774026000@lesite.snepfsu.fr
SUMMARY:Stage FSTG / Mutations Créteil
DESCRIPTION:
URL:https://lesite.snepfsu.fr/evenement/stage-fstg-mutations-creteil-3/
LOCATION:Créteil
CATEGORIES:Créteil,FSTG,Mutations FSTG
ORGANIZER;CN="SNEP-FSU Cr%C3%A9teil":MAILTO:s3-creteil@snepfsu.net
END:VEVENT
BEGIN:VEVENT
DTSTART;TZID=Europe/Paris:20260323T080000
DTEND;TZID=Europe/Paris:20260323T170000
DTSTAMP:20260426T051241
CREATED:20260217T094409Z
LAST-MODIFIED:20260217T094409Z
UID:42629-1774252800-1774285200@lesite.snepfsu.fr
SUMMARY:Stage Corpo / Mut Intra Créteil
DESCRIPTION:
URL:https://lesite.snepfsu.fr/evenement/stage-corpo-mut-intra-creteil-5/
LOCATION:Créteil
CATEGORIES:Créteil,Mutations Intra,Stages Corpo
ORGANIZER;CN="SNEP-FSU Cr%C3%A9teil":MAILTO:s3-creteil@snepfsu.net
END:VEVENT
END:VCALENDAR