BEGIN:VCALENDAR
VERSION:2.0
PRODID:-//Le Site du SNEP-FSU - ECPv6.15.20//NONSGML v1.0//EN
CALSCALE:GREGORIAN
METHOD:PUBLISH
X-ORIGINAL-URL:https://lesite.snepfsu.fr
X-WR-CALDESC:Évènements pour Le Site du SNEP-FSU
REFRESH-INTERVAL;VALUE=DURATION:PT1H
X-Robots-Tag:noindex
X-PUBLISHED-TTL:PT1H
BEGIN:VTIMEZONE
TZID:Europe/Paris
BEGIN:DAYLIGHT
TZOFFSETFROM:+0100
TZOFFSETTO:+0200
TZNAME:CEST
DTSTART:20240331T010000
END:DAYLIGHT
BEGIN:STANDARD
TZOFFSETFROM:+0200
TZOFFSETTO:+0100
TZNAME:CET
DTSTART:20241027T010000
END:STANDARD
BEGIN:DAYLIGHT
TZOFFSETFROM:+0100
TZOFFSETTO:+0200
TZNAME:CEST
DTSTART:20250330T010000
END:DAYLIGHT
BEGIN:STANDARD
TZOFFSETFROM:+0200
TZOFFSETTO:+0100
TZNAME:CET
DTSTART:20251026T010000
END:STANDARD
BEGIN:DAYLIGHT
TZOFFSETFROM:+0100
TZOFFSETTO:+0200
TZNAME:CEST
DTSTART:20260329T010000
END:DAYLIGHT
BEGIN:STANDARD
TZOFFSETFROM:+0200
TZOFFSETTO:+0100
TZNAME:CET
DTSTART:20261025T010000
END:STANDARD
END:VTIMEZONE
BEGIN:VEVENT
DTSTART;TZID=Europe/Paris:20251117T080000
DTEND;TZID=Europe/Paris:20251118T170000
DTSTAMP:20260426T050449
CREATED:20251007T131238Z
LAST-MODIFIED:20251007T131607Z
UID:40150-1763366400-1763485200@lesite.snepfsu.fr
SUMMARY:Stage Educ / APSA Tennis de table Bordeaux
DESCRIPTION:
URL:https://lesite.snepfsu.fr/evenement/stage-educ-apsa-tennis-de-table-bordeaux-2/
LOCATION:Coulounieix-Chamiers
CATEGORIES:APSA,Bordeaux,Stages Educ
ORGANIZER;CN="SNEP-FSU Bordeaux":MAILTO:s3-bordeaux@snepfsu.net
END:VEVENT
BEGIN:VEVENT
DTSTART;TZID=Europe/Paris:20251121T080000
DTEND;TZID=Europe/Paris:20251121T170000
DTSTAMP:20260426T050449
CREATED:20251007T131102Z
LAST-MODIFIED:20251007T131102Z
UID:40148-1763712000-1763744400@lesite.snepfsu.fr
SUMMARY:Stage Corpo / Mut Inter Bordeaux
DESCRIPTION:
URL:https://lesite.snepfsu.fr/evenement/stage-corpo-mut-inter-bordeaux-4/
LOCATION:Cenon
CATEGORIES:Bordeaux,Mutations Inter,Stages Corpo
ORGANIZER;CN="SNEP-FSU Bordeaux":MAILTO:s3-bordeaux@snepfsu.net
END:VEVENT
END:VCALENDAR