BEGIN:VCALENDAR
VERSION:2.0
PRODID:-//Le Site du SNEP-FSU - ECPv6.15.20//NONSGML v1.0//EN
CALSCALE:GREGORIAN
METHOD:PUBLISH
X-WR-CALNAME:Le Site du SNEP-FSU
X-ORIGINAL-URL:https://lesite.snepfsu.fr
X-WR-CALDESC:Évènements pour Le Site du SNEP-FSU
REFRESH-INTERVAL;VALUE=DURATION:PT1H
X-Robots-Tag:noindex
X-PUBLISHED-TTL:PT1H
BEGIN:VTIMEZONE
TZID:Europe/Paris
BEGIN:DAYLIGHT
TZOFFSETFROM:+0100
TZOFFSETTO:+0200
TZNAME:CEST
DTSTART:20250330T010000
END:DAYLIGHT
BEGIN:STANDARD
TZOFFSETFROM:+0200
TZOFFSETTO:+0100
TZNAME:CET
DTSTART:20251026T010000
END:STANDARD
BEGIN:DAYLIGHT
TZOFFSETFROM:+0100
TZOFFSETTO:+0200
TZNAME:CEST
DTSTART:20260329T010000
END:DAYLIGHT
BEGIN:STANDARD
TZOFFSETFROM:+0200
TZOFFSETTO:+0100
TZNAME:CET
DTSTART:20261025T010000
END:STANDARD
BEGIN:DAYLIGHT
TZOFFSETFROM:+0100
TZOFFSETTO:+0200
TZNAME:CEST
DTSTART:20270328T010000
END:DAYLIGHT
BEGIN:STANDARD
TZOFFSETFROM:+0200
TZOFFSETTO:+0100
TZNAME:CET
DTSTART:20271031T010000
END:STANDARD
END:VTIMEZONE
BEGIN:VEVENT
DTSTART;TZID=Europe/Paris:20260313T080000
DTEND;TZID=Europe/Paris:20260313T170000
DTSTAMP:20260426T063731
CREATED:20260302T091746Z
LAST-MODIFIED:20260302T091746Z
UID:42728-1773388800-1773421200@lesite.snepfsu.fr
SUMMARY:Stage Corpo / Santé Aix-Marseille
DESCRIPTION:
URL:https://lesite.snepfsu.fr/evenement/stage-corpo-sante-aix-marseille/
LOCATION:Gap
CATEGORIES:Aix-Marseille,Santé,Stages Corpo
END:VEVENT
BEGIN:VEVENT
DTSTART;TZID=Europe/Paris:20260319T080000
DTEND;TZID=Europe/Paris:20260319T170000
DTSTAMP:20260426T063731
CREATED:20260217T094030Z
LAST-MODIFIED:20260217T094030Z
UID:42624-1773907200-1773939600@lesite.snepfsu.fr
SUMMARY:Stage Corpo / Mut Intra Aix-Marseille
DESCRIPTION:
URL:https://lesite.snepfsu.fr/evenement/stage-corpo-mut-intra-aix-marseille-6/
LOCATION:Le-Puy-Ste-Reparade
CATEGORIES:Aix-Marseille,Mutations Intra,Stages Corpo
ORGANIZER;CN="SNEP-FSU Aix-Marseille":MAILTO:s3-aix@snepfsu.net
END:VEVENT
END:VCALENDAR